BEGIN:VCALENDAR
VERSION:2.0
PRODID:-//Jubla Degersheim - ECPv6.15.17.1//NONSGML v1.0//EN
CALSCALE:GREGORIAN
METHOD:PUBLISH
X-ORIGINAL-URL:https://jubla-degersheim.ch
X-WR-CALDESC:Veranstaltungen im Jubla Degersheim
REFRESH-INTERVAL;VALUE=DURATION:PT1H
X-Robots-Tag:noindex
X-PUBLISHED-TTL:PT1H
BEGIN:VTIMEZONE
TZID:Europe/Zurich
BEGIN:DAYLIGHT
TZOFFSETFROM:+0100
TZOFFSETTO:+0200
TZNAME:CEST
DTSTART:20250330T010000
END:DAYLIGHT
BEGIN:STANDARD
TZOFFSETFROM:+0200
TZOFFSETTO:+0100
TZNAME:CET
DTSTART:20251026T010000
END:STANDARD
BEGIN:DAYLIGHT
TZOFFSETFROM:+0100
TZOFFSETTO:+0200
TZNAME:CEST
DTSTART:20260329T010000
END:DAYLIGHT
BEGIN:STANDARD
TZOFFSETFROM:+0200
TZOFFSETTO:+0100
TZNAME:CET
DTSTART:20261025T010000
END:STANDARD
BEGIN:DAYLIGHT
TZOFFSETFROM:+0100
TZOFFSETTO:+0200
TZNAME:CEST
DTSTART:20270328T010000
END:DAYLIGHT
BEGIN:STANDARD
TZOFFSETFROM:+0200
TZOFFSETTO:+0100
TZNAME:CET
DTSTART:20271031T010000
END:STANDARD
END:VTIMEZONE
BEGIN:VEVENT
DTSTART;VALUE=DATE:20260906
DTEND;VALUE=DATE:20260908
DTSTAMP:20260422T174022
CREATED:20260121T201706Z
LAST-MODIFIED:20260121T201706Z
UID:3665-1788652800-1788825599@jubla-degersheim.ch
SUMMARY:Jahrmarkt
DESCRIPTION:Jedes Jahr am Jahrmarkt\, haben die Jungwacht und das Blauring Degersheim einen Stand. Jedes Kind kann hier am Stand ein kleines Abenteuer auf der Attraktion erleben und sich mit neuen Fanartikel eindecken.
URL:https://jubla-degersheim.ch/event/jahrmarkt-4/
LOCATION:St. Jakobus Kirche\, Pfarrei St. Jakobus - Seelsorgeeinheit Magdenau SEMA\, Degersheim\, St.Gallen\, 9113\, Switzerland
END:VEVENT
BEGIN:VEVENT
DTSTART;VALUE=DATE:20260925
DTEND;VALUE=DATE:20260926
DTSTAMP:20260422T174022
CREATED:20260121T201845Z
LAST-MODIFIED:20260121T201845Z
UID:3667-1790294400-1790380799@jubla-degersheim.ch
SUMMARY:Lagergottesdienst mit Aufnahme der Jüngsten
DESCRIPTION:Jedes Jahr vor dem Lager gehen wir zusammen an einen Gottesdienst. Dort erhalten wir den Reisesegen für das Lager. Dieser Segen soll uns während des Lagers beschützen. Zusätzlich werden die neusten und jüngsten Mitglieder offiziell in die Schar aufgenommen.
URL:https://jubla-degersheim.ch/event/lagergottesdienst-mit-aufnahme-der-juengsten-2/
LOCATION:St. Jakobus Kirche\, Pfarrei St. Jakobus - Seelsorgeeinheit Magdenau SEMA\, Degersheim\, St.Gallen\, 9113\, Switzerland
END:VEVENT
BEGIN:VEVENT
DTSTART;VALUE=DATE:20260926
DTEND;VALUE=DATE:20261007
DTSTAMP:20260422T174022
CREATED:20260121T202056Z
LAST-MODIFIED:20260121T202505Z
UID:3669-1790380800-1791331199@jubla-degersheim.ch
SUMMARY:Lager
DESCRIPTION:Unser Highlight des Jahres steht bald wieder vor der Türe. Vom 26.09. – 06.10. werden wir von der Jungwacht und Blauring Degersheim\, 11 unvergessliche Tage im Lager erleben. Mit Spiel und Spass werden neue Freundschaften geknüpft und viele neue Erfahrungen gesammelt. Wir freuen uns auf zahlreiche Anmeldungen.
URL:https://jubla-degersheim.ch/event/lager-4/
LOCATION:St. Gallen
END:VEVENT
END:VCALENDAR