BEGIN:VCALENDAR
VERSION:2.0
PRODID:-//Jubla Degersheim - ECPv6.15.17.1//NONSGML v1.0//EN
CALSCALE:GREGORIAN
METHOD:PUBLISH
X-WR-CALNAME:Jubla Degersheim
X-ORIGINAL-URL:https://jubla-degersheim.ch
X-WR-CALDESC:Veranstaltungen im Jubla Degersheim
REFRESH-INTERVAL;VALUE=DURATION:PT1H
X-Robots-Tag:noindex
X-PUBLISHED-TTL:PT1H
BEGIN:VTIMEZONE
TZID:Europe/Zurich
BEGIN:DAYLIGHT
TZOFFSETFROM:+0100
TZOFFSETTO:+0200
TZNAME:CEST
DTSTART:20220327T010000
END:DAYLIGHT
BEGIN:STANDARD
TZOFFSETFROM:+0200
TZOFFSETTO:+0100
TZNAME:CET
DTSTART:20221030T010000
END:STANDARD
BEGIN:DAYLIGHT
TZOFFSETFROM:+0100
TZOFFSETTO:+0200
TZNAME:CEST
DTSTART:20230326T010000
END:DAYLIGHT
BEGIN:STANDARD
TZOFFSETFROM:+0200
TZOFFSETTO:+0100
TZNAME:CET
DTSTART:20231029T010000
END:STANDARD
BEGIN:DAYLIGHT
TZOFFSETFROM:+0100
TZOFFSETTO:+0200
TZNAME:CEST
DTSTART:20240331T010000
END:DAYLIGHT
BEGIN:STANDARD
TZOFFSETFROM:+0200
TZOFFSETTO:+0100
TZNAME:CET
DTSTART:20241027T010000
END:STANDARD
BEGIN:DAYLIGHT
TZOFFSETFROM:+0100
TZOFFSETTO:+0200
TZNAME:CEST
DTSTART:20250330T010000
END:DAYLIGHT
BEGIN:STANDARD
TZOFFSETFROM:+0200
TZOFFSETTO:+0100
TZNAME:CET
DTSTART:20251026T010000
END:STANDARD
BEGIN:DAYLIGHT
TZOFFSETFROM:+0100
TZOFFSETTO:+0200
TZNAME:CEST
DTSTART:20260329T010000
END:DAYLIGHT
BEGIN:STANDARD
TZOFFSETFROM:+0200
TZOFFSETTO:+0100
TZNAME:CET
DTSTART:20261025T010000
END:STANDARD
END:VTIMEZONE
BEGIN:VEVENT
DTSTART;VALUE=DATE:20250505
DTEND;VALUE=DATE:20250506
DTSTAMP:20260422T235814
CREATED:20250223T212830Z
LAST-MODIFIED:20250223T213138Z
UID:3341-1746403200-1746489599@jubla-degersheim.ch
SUMMARY:Schulbesuchstag im Kindergarten
DESCRIPTION:
URL:https://jubla-degersheim.ch/event/schulbesuchstage-im-kindergarten/
LOCATION:Degersheim\, St.Gallen\, 9113\, Switzerland
END:VEVENT
BEGIN:VEVENT
DTSTART;VALUE=DATE:20250426
DTEND;VALUE=DATE:20250427
DTSTAMP:20260422T235814
CREATED:20250319T124237Z
LAST-MODIFIED:20250319T124325Z
UID:3500-1745625600-1745711999@jubla-degersheim.ch
SUMMARY:Altpapiersammeln
DESCRIPTION:
URL:https://jubla-degersheim.ch/event/altpapiersammeln-2/
LOCATION:Degersheim\, St.Gallen\, 9113\, Switzerland
END:VEVENT
BEGIN:VEVENT
DTSTART;VALUE=DATE:20250315
DTEND;VALUE=DATE:20250317
DTSTAMP:20260422T235814
CREATED:20250223T170540Z
LAST-MODIFIED:20250223T212321Z
UID:3274-1741996800-1742169599@jubla-degersheim.ch
SUMMARY:Zopfaktion
DESCRIPTION:Die Leiterinnen des Blauring Degersheim backen für euch von Samstag auf Sonntag einen feinen Sonntagszopf. Dieses liefern sie euch\, frisch am Sonntag direkt auf den Zmorgentisch.
URL:https://jubla-degersheim.ch/event/zopfaktion/
LOCATION:Degersheim\, St.Gallen\, 9113\, Switzerland
CATEGORIES:Blauring
END:VEVENT
BEGIN:VEVENT
DTSTART;TZID=Europe/Zurich:20250215T180000
DTEND;TZID=Europe/Zurich:20250215T203000
DTSTAMP:20260422T235814
CREATED:20250223T170020Z
LAST-MODIFIED:20250223T170343Z
UID:3268-1739642400-1739651400@jubla-degersheim.ch
SUMMARY:Kinonacht
DESCRIPTION:
URL:https://jubla-degersheim.ch/event/kinonacht/
LOCATION:Katholisches Pfarreiheim\, Friedbergstrasse 8\, Degersheim\, 9113\, Switzerland
END:VEVENT
BEGIN:VEVENT
DTSTART;VALUE=DATE:20250112
DTEND;VALUE=DATE:20250113
DTSTAMP:20260422T235814
CREATED:20250223T211716Z
LAST-MODIFIED:20250223T211742Z
UID:3336-1736640000-1736726399@jubla-degersheim.ch
SUMMARY:Sternsinggottesdienst Wolfertswil
DESCRIPTION:
URL:https://jubla-degersheim.ch/event/sternsinggottesdienst/
LOCATION:Bruder-Klaus-Kirche\, Katholische Kirche\, Wolfertswil\, St.Gallen\, 9116\, Switzerland
END:VEVENT
BEGIN:VEVENT
DTSTART;VALUE=DATE:20250111
DTEND;VALUE=DATE:20250112
DTSTAMP:20260422T235814
CREATED:20250223T165152Z
LAST-MODIFIED:20250223T165152Z
UID:3258-1736553600-1736639999@jubla-degersheim.ch
SUMMARY:Sternsinggottesdienst Degersheim
DESCRIPTION:
URL:https://jubla-degersheim.ch/event/sternsinggottesdienst-degersheim/
LOCATION:St. Jakobus Kirche\, Pfarrei St. Jakobus - Seelsorgeeinheit Magdenau SEMA\, Degersheim\, St.Gallen\, 9113\, Switzerland
END:VEVENT
BEGIN:VEVENT
DTSTART;VALUE=DATE:20250106
DTEND;VALUE=DATE:20250111
DTSTAMP:20260422T235814
CREATED:20250223T165648Z
LAST-MODIFIED:20250223T171044Z
UID:3262-1736121600-1736553599@jubla-degersheim.ch
SUMMARY:Sternsingen
DESCRIPTION:Die Sternsinger sind jeweils von 18.00 Uhr bis 20.00 Uhr unterwegs.
URL:https://jubla-degersheim.ch/event/sternsingen-2/
LOCATION:Degersheim\, St.Gallen\, 9113\, Switzerland
END:VEVENT
BEGIN:VEVENT
DTSTART;VALUE=DATE:20241201
DTEND;VALUE=DATE:20241202
DTSTAMP:20260422T235814
CREATED:20240112T140949Z
LAST-MODIFIED:20240112T140949Z
UID:2764-1733011200-1733097599@jubla-degersheim.ch
SUMMARY:Weihnachtsmarkt Wolfertswil
DESCRIPTION:Jedes Jahr\, am Weihnachtsmarkt in Wolfertswil hat das Blauring Degersheim einen Stand. Jedes Kind kann hier am Stand ein kleines Abenteuer auf der Attraktion erleben und sich mit neuen Fanartikeln vom Blauring eindecken.
URL:https://jubla-degersheim.ch/event/weihnachtsmarkt-wolfertswil-2/
LOCATION:St.Gallen
END:VEVENT
BEGIN:VEVENT
DTSTART;VALUE=DATE:20241116
DTEND;VALUE=DATE:20241118
DTSTAMP:20260422T235814
CREATED:20240112T140904Z
LAST-MODIFIED:20240112T140904Z
UID:2762-1731715200-1731887999@jubla-degersheim.ch
SUMMARY:Unihockeyturnier
DESCRIPTION:Das UHT Degersheim gehört zu den grössten Plauschunihockeyturnieren der Schweiz und findet dieses Jahr schon das 22. Mal statt. In diversen Kinder- und Erwachsenenkategorien wird wieder um die weisse Kugel gekämpft. Dieser Anlass wird von der Jubla Degersheim organisiert und durchgeführt. Genauere Informationen sind unter uh-turnier.ch zu finden.
URL:https://jubla-degersheim.ch/event/unihockeyturnier-2/
LOCATION:St.Gallen
END:VEVENT
BEGIN:VEVENT
DTSTART;VALUE=DATE:20241102
DTEND;VALUE=DATE:20241103
DTSTAMP:20260422T235814
CREATED:20240112T140722Z
LAST-MODIFIED:20240112T140722Z
UID:2760-1730505600-1730591999@jubla-degersheim.ch
SUMMARY:Lagerrückblick
DESCRIPTION:Das Lager\, zu einem feinen Abendessen nochmals Revue passieren lassen und sich hineinfühlen.\nDie Jubla Degersheim veranstaltet nach dem Lager einen Lagerrückblick. So können die Eltern\, Grosseltern\, Tanten\, Önkel\, Geschwister\, … sehen\, was Ihr Sohn/Ihre Tochter im Lager so alles erlebt hat.\nZudem werden die Leiter verdankt und alle Leiter\, welche aufhören\, verabschiedet.
URL:https://jubla-degersheim.ch/event/lagerrueckblick-2/
LOCATION:St.Gallen
END:VEVENT
BEGIN:VEVENT
DTSTART;VALUE=DATE:20240928
DTEND;VALUE=DATE:20241009
DTSTAMP:20260422T235814
CREATED:20240112T140549Z
LAST-MODIFIED:20240112T140549Z
UID:2758-1727481600-1728431999@jubla-degersheim.ch
SUMMARY:Lager
DESCRIPTION:Unser Highlight des Jahres steht bald wieder vor der Türe. Vom 28.09. – 08.10. werden wir von der Jungwacht und Blauring Degersheim\, 11 unvergessliche Tage im Lager erleben. Mit Spiel und Spass werden neue Freundschaften geknüpft und viele neue Erfahrungen gesammelt. Wir freuen uns auf zahlreiche Anmeldungen.\nWeitere Informationen zum Jungwachtlager: Jungwachtlager\nWeitere Informationen zum Blauringlager: Blauringlager
URL:https://jubla-degersheim.ch/event/lager-2/
LOCATION:St.Gallen
END:VEVENT
BEGIN:VEVENT
DTSTART;VALUE=DATE:20240927
DTEND;VALUE=DATE:20240928
DTSTAMP:20260422T235814
CREATED:20240112T140420Z
LAST-MODIFIED:20240112T140420Z
UID:2756-1727395200-1727481599@jubla-degersheim.ch
SUMMARY:Lagergottesdienst mit Aufnahme der Jüngsten
DESCRIPTION:Jedes Jahr vor dem Lager gehen wir zusammen an einen Gottesdienst. Dort erhalten wir den Reisesegen für das Lager. Dieser Segen soll uns während des Lagers beschützen. Zusätzlich werden die neusten und jüngsten Mitglieder offiziell in die Schar aufgenommen.
URL:https://jubla-degersheim.ch/event/lagergottesdienst-mit-aufnahme-der-juengsten/
LOCATION:St.Gallen
END:VEVENT
BEGIN:VEVENT
DTSTART;VALUE=DATE:20240901
DTEND;VALUE=DATE:20240903
DTSTAMP:20260422T235814
CREATED:20240112T140142Z
LAST-MODIFIED:20240112T140142Z
UID:2753-1725148800-1725321599@jubla-degersheim.ch
SUMMARY:Jahrmarkt
DESCRIPTION:Jedes Jahr am Jahrmarkt\, haben die Jungwacht und das Blauring Degersheim einen Stand. Jedes Kind kann hier am Stand ein kleines Abenteuer auf der Attraktion erleben und sich mit neuen Fanartikel eindecken.
URL:https://jubla-degersheim.ch/event/jahrmarkt-2/
LOCATION:St.Gallen
END:VEVENT
BEGIN:VEVENT
DTSTART;VALUE=DATE:20240817
DTEND;VALUE=DATE:20240818
DTSTAMP:20260422T235814
CREATED:20240112T140050Z
LAST-MODIFIED:20240112T140050Z
UID:2751-1723852800-1723939199@jubla-degersheim.ch
SUMMARY:Spaghetti - Plausch Jungwacht
DESCRIPTION:Wir laden euch herzlich zum diesjährigen Spaghetti-Plausch ein. Um jedem die Möglichkeit zu geben am Anlass Spaghetti zu essen\, wird auch an diesem Anlass wieder eine Kollekte gesammelt ohne Preisvorgabe. Alle Einnahmen kommen dem diesjährigen Lager zugute. \nJeder ist Willkommen\, ob aktive ehemalig oder gar nicht in der Jubla. \nZusätzlich gibt es auch dieses Jahr wieder verschiedene Spiele und Unterhaltungen für die Kinder und Junggebliebenen.
URL:https://jubla-degersheim.ch/event/risottoplausch-jungwacht/
LOCATION:St.Gallen
END:VEVENT
BEGIN:VEVENT
DTSTART;VALUE=DATE:20240814
DTEND;VALUE=DATE:20240815
DTSTAMP:20260422T235814
CREATED:20240112T135850Z
LAST-MODIFIED:20240112T135850Z
UID:2749-1723593600-1723679999@jubla-degersheim.ch
SUMMARY:Eltern-Kind-Abend Blauring
DESCRIPTION:Das Blauring Degersheim lädt alle Eltern und Kinder zu einem Elternabend ein. An diesem Abend wird das Leitungsteam vom Blauring vorgestellt und man bekommt einen Einblick ins kommende Herbstlager.\nHat man dann noch Fragen\, können einem die Lagerleiterinnen gerne weiter Auskunft geben.\nDas Blauring Degersheim empfiehlt diesen Anlass allen\, deren Kind zum ersten Mal ins Blauringherbstlager geht.
URL:https://jubla-degersheim.ch/event/eltern-kind-abend-blauring-2/
LOCATION:St.Gallen
END:VEVENT
BEGIN:VEVENT
DTSTART;VALUE=DATE:20240615
DTEND;VALUE=DATE:20240617
DTSTAMP:20260422T235814
CREATED:20240112T135731Z
LAST-MODIFIED:20240112T135731Z
UID:2747-1718409600-1718582399@jubla-degersheim.ch
SUMMARY:Jublair
DESCRIPTION:Für ein Wochenende machen sich die Jungwächtler und Blauringmädchen auf ein Abenteuer auf. Es wird gewandert\, gezeltet und über dem Feuer gekocht. Zusammen mit Freunden am Lagerfeuer gesungen und den Abend genossen.\nZudem ist das Jublair von einem spannenden Motto begleitet.
URL:https://jubla-degersheim.ch/event/jublair-2/
LOCATION:St.Gallen
END:VEVENT
BEGIN:VEVENT
DTSTART;VALUE=DATE:20240316
DTEND;VALUE=DATE:20240318
DTSTAMP:20260422T235814
CREATED:20240112T135548Z
LAST-MODIFIED:20240112T135548Z
UID:2745-1710547200-1710719999@jubla-degersheim.ch
SUMMARY:Zopfaktion Blauring
DESCRIPTION:Die Leiterinnen des Blauring Degersheim backen für euch von Samstag auf Sonntag einen feinen Sonntagszopf. Dieses liefern sie euch\, frisch am Sonntag direkt auf den Zmorgentisch.
URL:https://jubla-degersheim.ch/event/zopfaktion-blauring-2/
LOCATION:St.Gallen
END:VEVENT
BEGIN:VEVENT
DTSTART;VALUE=DATE:20240224
DTEND;VALUE=DATE:20240225
DTSTAMP:20260422T235814
CREATED:20240112T135342Z
LAST-MODIFIED:20240112T135342Z
UID:2743-1708732800-1708819199@jubla-degersheim.ch
SUMMARY:Kinonacht
DESCRIPTION:
URL:https://jubla-degersheim.ch/event/kinonacht-inkl-fasnachtsgottesdienst/
LOCATION:St.Gallen
END:VEVENT
BEGIN:VEVENT
DTSTART;TZID=Europe/Zurich:20240113T173000
DTEND;TZID=Europe/Zurich:20240113T183000
DTSTAMP:20260422T235814
CREATED:20240112T135233Z
LAST-MODIFIED:20240112T135233Z
UID:2741-1705167000-1705170600@jubla-degersheim.ch
SUMMARY:Sternsingergottesdienst
DESCRIPTION:
URL:https://jubla-degersheim.ch/event/sternsingergottesdienst/
LOCATION:St.Gallen
END:VEVENT
BEGIN:VEVENT
DTSTART;VALUE=DATE:20240109
DTEND;VALUE=DATE:20240113
DTSTAMP:20260422T235814
CREATED:20240112T135127Z
LAST-MODIFIED:20240112T135127Z
UID:2739-1704758400-1705103999@jubla-degersheim.ch
SUMMARY:Sternsingen
DESCRIPTION:Die Sternsinger sind jeweils von 18.00 Uhr bis 20.00 Uhr unterwegs.
URL:https://jubla-degersheim.ch/event/sternsingen/
LOCATION:St.Gallen
END:VEVENT
BEGIN:VEVENT
DTSTART;VALUE=DATE:20231202
DTEND;VALUE=DATE:20231204
DTSTAMP:20260422T235814
CREATED:20230228T102636Z
LAST-MODIFIED:20230228T102636Z
UID:2110-1701475200-1701647999@jubla-degersheim.ch
SUMMARY:Weihnachtsmarkt Wolfertswil
DESCRIPTION:Jedes Jahr\, am Weihnachtsmarkt in Wolfertswil hat das Blauring Degersheim einen Stand. Jedes Kind kann hier am Stand ein kleines Abenteuer auf der Attraktion erleben und sich mit neuen Fanartikeln vom Blauring eindecken.
URL:https://jubla-degersheim.ch/event/weihnachtsmarkt-wolfertswil/
LOCATION:St.Gallen
END:VEVENT
BEGIN:VEVENT
DTSTART;VALUE=DATE:20231118
DTEND;VALUE=DATE:20231120
DTSTAMP:20260422T235814
CREATED:20230228T102601Z
LAST-MODIFIED:20230228T102601Z
UID:2108-1700265600-1700438399@jubla-degersheim.ch
SUMMARY:Unihockeyturnier
DESCRIPTION:Das UHT Degersheim gehört zu den grössten Plauschunihockeyturnieren der Schweiz und findet dieses Jahr schon das 21. Mal statt. In diversen Kinder- und Erwachsenenkategorien wird wieder um die weisse Kugel gekämpft. Dieser Anlass wird von der Jubla Degersheim organisiert und durchgeführt.
URL:https://jubla-degersheim.ch/event/unihockeyturnier/
LOCATION:St.Gallen
END:VEVENT
BEGIN:VEVENT
DTSTART;VALUE=DATE:20231104
DTEND;VALUE=DATE:20231105
DTSTAMP:20260422T235814
CREATED:20230228T102528Z
LAST-MODIFIED:20230228T102528Z
UID:2106-1699056000-1699142399@jubla-degersheim.ch
SUMMARY:Lagerrückblick
DESCRIPTION:Das Lager\, zu einem feinen Abendessen nochmals Revue passieren lassen und sich hinein fühlen.\nDie Jubla Degersheim veranstaltet nach dem Lager einen Lagerrückblick. So können die Eltern\, Grosseltern\, Tanten\, Önkel\, Geschwister\, … sehen was Ihr Sohn/Ihre Tochter im Lager so alles erlebt hat.\nZudem werden die Leiter verdankt und alle Leiter die Aufhören verabschiedet.
URL:https://jubla-degersheim.ch/event/lagerrueckblick/
LOCATION:St.Gallen
END:VEVENT
BEGIN:VEVENT
DTSTART;VALUE=DATE:20230930
DTEND;VALUE=DATE:20231011
DTSTAMP:20260422T235814
CREATED:20230228T102357Z
LAST-MODIFIED:20230228T102357Z
UID:2104-1696032000-1696982399@jubla-degersheim.ch
SUMMARY:Lager
DESCRIPTION:Unser Highlight des Jahres steht bald wieder vor der Türe. Vom 30.09 – 10.10 werden wir von der Jungwacht und Blauring Degersheim\, 11 unvergessliche Tage im Lager erleben. Mit Spiel und Spass werden neue Freundschaften geknüpft und viele neue Erfahrungen gesammelt. Wir freuen uns auf zahlreiche Anmeldungen.
URL:https://jubla-degersheim.ch/event/lager/
LOCATION:St.Gallen
END:VEVENT
BEGIN:VEVENT
DTSTART;VALUE=DATE:20230929
DTEND;VALUE=DATE:20230930
DTSTAMP:20260422T235814
CREATED:20230228T101348Z
LAST-MODIFIED:20230228T101348Z
UID:2102-1695945600-1696031999@jubla-degersheim.ch
SUMMARY:Lagergottesdienst
DESCRIPTION:Jedes Jahr vor dem Lager gehen wir zusammen an einen Gottesdienst. Dort erhalten wir den Reisesegen für das Lager. Dieser Segen soll uns während des Lagers beschützen.
URL:https://jubla-degersheim.ch/event/lagergottesdienst/
LOCATION:St.Gallen
END:VEVENT
BEGIN:VEVENT
DTSTART;VALUE=DATE:20230903
DTEND;VALUE=DATE:20230905
DTSTAMP:20260422T235814
CREATED:20230228T101209Z
LAST-MODIFIED:20230228T101209Z
UID:2100-1693699200-1693871999@jubla-degersheim.ch
SUMMARY:Jahrmarkt
DESCRIPTION:Jedes Jahr\, am Jahrmarkt haben die Jungwacht und das Blauring Degersheim einen Stand. Jedes Kind kann hier am Stand ein kleines Abenteuer auf der Attraktion erleben und sich mit neuen Fanartikel eindecken.
URL:https://jubla-degersheim.ch/event/jahrmarkt/
LOCATION:St.Gallen
END:VEVENT
BEGIN:VEVENT
DTSTART;VALUE=DATE:20230819
DTEND;VALUE=DATE:20230820
DTSTAMP:20260422T235814
CREATED:20230228T101139Z
LAST-MODIFIED:20230228T101139Z
UID:2098-1692403200-1692489599@jubla-degersheim.ch
SUMMARY:80 Jahr Jubiläum
DESCRIPTION:Schon 80 Jahre ist es her\, seit dem die Jungwacht Degersheim gegründet wurde. Um das Jubiläum mit der Acht zu feiern veranstaltet die Jungwacht ein Nachmittagsprogramm zur Geschichte\, zum Leben in der Jungwacht und zu den Gruppenstunden. Geniesse am Abend ein feines Abendessen und feiert das Jubiläum der Jungwacht Degersheim mit.
URL:https://jubla-degersheim.ch/event/risottoplausch-jungwacht-80-jahr-jubilaeum/
LOCATION:St.Gallen
END:VEVENT
BEGIN:VEVENT
DTSTART;VALUE=DATE:20230816
DTEND;VALUE=DATE:20230817
DTSTAMP:20260422T235814
CREATED:20230228T101036Z
LAST-MODIFIED:20230228T101036Z
UID:2096-1692144000-1692230399@jubla-degersheim.ch
SUMMARY:Eltern-Kind-Abend Blauring
DESCRIPTION:Das Blauring Degersheim lädt alle Eltern und Kinder zu einem Elternabend ein. An diesem Abend wird das Leitungsteam vom Blauring vorgestellt und man bekommt einen Einblick ins kommende Herbstlager.\nHat man dann noch Fragen\, können einem die Lagerleiterinnen gerne weiter Auskunft geben.\nDas Blauring Degersheim empfiehlt diesen Anlass allen\, deren Kind zum ersten mal ins Blauring Herbstlager geht.
URL:https://jubla-degersheim.ch/event/eltern-kind-abend-blauring/
LOCATION:St.Gallen
END:VEVENT
BEGIN:VEVENT
DTSTART;VALUE=DATE:20230617
DTEND;VALUE=DATE:20230618
DTSTAMP:20260422T235814
CREATED:20230228T100950Z
LAST-MODIFIED:20230228T100950Z
UID:2094-1686960000-1687046399@jubla-degersheim.ch
SUMMARY:Altpapiersammeln
DESCRIPTION:Einmal im Jahr sammelt die Jubla Degersheim das Altpapier und den Karton in ganz Degersheim.
URL:https://jubla-degersheim.ch/event/altpapiersammeln/
LOCATION:St.Gallen
END:VEVENT
BEGIN:VEVENT
DTSTART;VALUE=DATE:20230610
DTEND;VALUE=DATE:20230612
DTSTAMP:20260422T235814
CREATED:20230228T100915Z
LAST-MODIFIED:20230228T100915Z
UID:2092-1686355200-1686527999@jubla-degersheim.ch
SUMMARY:Jublair
DESCRIPTION:Für ein Wochenende machen sich die Jungwächtler und Blauringmädchen auf ein Abenteuer auf. Es wird gewandert\, gezeltet und über dem Feuer gekocht. Zusammen mit Freunden am Lagerfeuer gesungen und den Abend genossen.\nZudem ist das Jublair von einem spannenden Motto begleitet.
URL:https://jubla-degersheim.ch/event/jublair/
LOCATION:St.Gallen
END:VEVENT
END:VCALENDAR