BEGIN:VCALENDAR
VERSION:2.0
PRODID:-//Jubla Degersheim - ECPv6.15.17.1//NONSGML v1.0//EN
CALSCALE:GREGORIAN
METHOD:PUBLISH
X-WR-CALNAME:Jubla Degersheim
X-ORIGINAL-URL:https://jubla-degersheim.ch
X-WR-CALDESC:Veranstaltungen im Jubla Degersheim
REFRESH-INTERVAL;VALUE=DURATION:PT1H
X-Robots-Tag:noindex
X-PUBLISHED-TTL:PT1H
BEGIN:VTIMEZONE
TZID:Europe/Zurich
BEGIN:DAYLIGHT
TZOFFSETFROM:+0100
TZOFFSETTO:+0200
TZNAME:CEST
DTSTART:20250330T010000
END:DAYLIGHT
BEGIN:STANDARD
TZOFFSETFROM:+0200
TZOFFSETTO:+0100
TZNAME:CET
DTSTART:20251026T010000
END:STANDARD
BEGIN:DAYLIGHT
TZOFFSETFROM:+0100
TZOFFSETTO:+0200
TZNAME:CEST
DTSTART:20260329T010000
END:DAYLIGHT
BEGIN:STANDARD
TZOFFSETFROM:+0200
TZOFFSETTO:+0100
TZNAME:CET
DTSTART:20261025T010000
END:STANDARD
BEGIN:DAYLIGHT
TZOFFSETFROM:+0100
TZOFFSETTO:+0200
TZNAME:CEST
DTSTART:20270328T010000
END:DAYLIGHT
BEGIN:STANDARD
TZOFFSETFROM:+0200
TZOFFSETTO:+0100
TZNAME:CET
DTSTART:20271031T010000
END:STANDARD
END:VTIMEZONE
BEGIN:VEVENT
DTSTART;VALUE=DATE:20261114
DTEND;VALUE=DATE:20261116
DTSTAMP:20260423T001835
CREATED:20260121T202754Z
LAST-MODIFIED:20260121T202754Z
UID:3674-1794614400-1794787199@jubla-degersheim.ch
SUMMARY:24. Unihockeyturnier
DESCRIPTION:Das UHT Degersheim gehört zu den grössten Plauschunihockeyturnieren der Schweiz und findet dieses Jahr schon das 24. Mal statt. In diversen Kinder- und Erwachsenenkategorien wird wieder um die weisse Kugel gekämpft. Dieser Anlass wird von der Jubla Degersheim organisiert und durchgeführt. Genauere Informationen sind unter uh-turnier.ch zu finden.
URL:https://jubla-degersheim.ch/event/24-unihockeyturnier/
LOCATION:Turnhalle\, Primarschule Steinegg\, Degersheim\, St.Gallen\, 9113\, Switzerland
END:VEVENT
BEGIN:VEVENT
DTSTART;VALUE=DATE:20261129
DTEND;VALUE=DATE:20261130
DTSTAMP:20260423T001835
CREATED:20260121T202953Z
LAST-MODIFIED:20260121T202953Z
UID:3676-1795910400-1795996799@jubla-degersheim.ch
SUMMARY:Weihnachtsmarkt Wolfertswil
DESCRIPTION:Jedes Jahr\, am Weihnachtsmarkt in Wolfertswil hat das Blauring und die Jungwacht Degersheim einen Stand. Jedes Kind kann hier am Stand ein kleines Abenteuer auf der Attraktion erleben und sich mit neuen Fanartikeln von Blauring oder Jungwacht eindecken.
URL:https://jubla-degersheim.ch/event/weihnachtsmarkt-wolfertswil-4/
LOCATION:Wolfertswil\, Oberdorfstrasse 2-4\, Wolfertswil\, St. Gallen\, 9116\, Switzerland
END:VEVENT
END:VCALENDAR