BEGIN:VCALENDAR
VERSION:2.0
PRODID:-//Jubla Degersheim - ECPv6.15.17.1//NONSGML v1.0//EN
CALSCALE:GREGORIAN
METHOD:PUBLISH
X-ORIGINAL-URL:https://jubla-degersheim.ch
X-WR-CALDESC:Veranstaltungen im Jubla Degersheim
REFRESH-INTERVAL;VALUE=DURATION:PT1H
X-Robots-Tag:noindex
X-PUBLISHED-TTL:PT1H
BEGIN:VTIMEZONE
TZID:Europe/Zurich
BEGIN:DAYLIGHT
TZOFFSETFROM:+0100
TZOFFSETTO:+0200
TZNAME:CEST
DTSTART:20240331T010000
END:DAYLIGHT
BEGIN:STANDARD
TZOFFSETFROM:+0200
TZOFFSETTO:+0100
TZNAME:CET
DTSTART:20241027T010000
END:STANDARD
BEGIN:DAYLIGHT
TZOFFSETFROM:+0100
TZOFFSETTO:+0200
TZNAME:CEST
DTSTART:20250330T010000
END:DAYLIGHT
BEGIN:STANDARD
TZOFFSETFROM:+0200
TZOFFSETTO:+0100
TZNAME:CET
DTSTART:20251026T010000
END:STANDARD
BEGIN:DAYLIGHT
TZOFFSETFROM:+0100
TZOFFSETTO:+0200
TZNAME:CEST
DTSTART:20260329T010000
END:DAYLIGHT
BEGIN:STANDARD
TZOFFSETFROM:+0200
TZOFFSETTO:+0100
TZNAME:CET
DTSTART:20261025T010000
END:STANDARD
END:VTIMEZONE
BEGIN:VEVENT
DTSTART;VALUE=DATE:20250820
DTEND;VALUE=DATE:20250821
DTSTAMP:20260423T014112
CREATED:20250223T203537Z
LAST-MODIFIED:20250708T122838Z
UID:3291-1755648000-1755734399@jubla-degersheim.ch
SUMMARY:Eltern-Kind-Abend Blauring
DESCRIPTION:Das Blauring Degersheim lädt alle Eltern und Kinder zu einem Elternabend ein. An diesem Abend wird das Leitungsteam vom Blauring vorgestellt und man bekommt einen Einblick ins kommende Herbstlager.\nHat man dann noch Fragen\, können einem die Lagerleiterinnen gerne weiter Auskunft geben.\nDas Blauring Degersheim empfiehlt diesen Anlass allen\, deren Kind zum ersten Mal ins Blauringherbstlager geht.
URL:https://jubla-degersheim.ch/event/eltern-kind-abend-blauring-3/
LOCATION:Katholisches Pfarreiheim\, Friedbergstrasse 8\, Degersheim\, 9113\, Switzerland
CATEGORIES:Blauring
END:VEVENT
END:VCALENDAR