BEGIN:VCALENDAR
VERSION:2.0
PRODID:-//Jubla Degersheim - ECPv6.15.17.1//NONSGML v1.0//EN
CALSCALE:GREGORIAN
METHOD:PUBLISH
X-ORIGINAL-URL:https://jubla-degersheim.ch
X-WR-CALDESC:Veranstaltungen im Jubla Degersheim
REFRESH-INTERVAL;VALUE=DURATION:PT1H
X-Robots-Tag:noindex
X-PUBLISHED-TTL:PT1H
BEGIN:VTIMEZONE
TZID:Europe/Zurich
BEGIN:DAYLIGHT
TZOFFSETFROM:+0100
TZOFFSETTO:+0200
TZNAME:CEST
DTSTART:20240331T010000
END:DAYLIGHT
BEGIN:STANDARD
TZOFFSETFROM:+0200
TZOFFSETTO:+0100
TZNAME:CET
DTSTART:20241027T010000
END:STANDARD
BEGIN:DAYLIGHT
TZOFFSETFROM:+0100
TZOFFSETTO:+0200
TZNAME:CEST
DTSTART:20250330T010000
END:DAYLIGHT
BEGIN:STANDARD
TZOFFSETFROM:+0200
TZOFFSETTO:+0100
TZNAME:CET
DTSTART:20251026T010000
END:STANDARD
BEGIN:DAYLIGHT
TZOFFSETFROM:+0100
TZOFFSETTO:+0200
TZNAME:CEST
DTSTART:20260329T010000
END:DAYLIGHT
BEGIN:STANDARD
TZOFFSETFROM:+0200
TZOFFSETTO:+0100
TZNAME:CET
DTSTART:20261025T010000
END:STANDARD
END:VTIMEZONE
BEGIN:VEVENT
DTSTART;VALUE=DATE:20250816
DTEND;VALUE=DATE:20250817
DTSTAMP:20260423T015253
CREATED:20250223T204020Z
LAST-MODIFIED:20250223T213356Z
UID:3293-1755302400-1755388799@jubla-degersheim.ch
SUMMARY:JWD-Znacht-Plausch mit Lagerinfostand
DESCRIPTION:Wir laden euch herzlich zum diesjährigen JWD-Znacht-Plausch ein. Um jedem die Möglichkeit zu geben am Anlass zu essen\, wird auch an diesem Anlass wieder eine Kollekte gesammelt ohne Preisvorgabe. Alle Einnahmen kommen dem diesjährigen Lager zugute. \nJeder ist Willkommen\, ob aktive ehemalig oder gar nicht in der Jubla. \nZusätzlich gibt es auch dieses Jahr wieder verschiedene Spiele und Unterhaltungen für die Kinder und Junggebliebenen.
URL:https://jubla-degersheim.ch/event/jwd-znacht-plausch/
LOCATION:Katholisches Pfarreiheim\, Friedbergstrasse 8\, Degersheim\, 9113\, Switzerland
CATEGORIES:Jungwacht
END:VEVENT
END:VCALENDAR