BEGIN:VCALENDAR
VERSION:2.0
PRODID:-//Jubla Degersheim - ECPv6.15.17.1//NONSGML v1.0//EN
CALSCALE:GREGORIAN
METHOD:PUBLISH
X-ORIGINAL-URL:https://jubla-degersheim.ch
X-WR-CALDESC:Veranstaltungen im Jubla Degersheim
REFRESH-INTERVAL;VALUE=DURATION:PT1H
X-Robots-Tag:noindex
X-PUBLISHED-TTL:PT1H
BEGIN:VTIMEZONE
TZID:Europe/Zurich
BEGIN:DAYLIGHT
TZOFFSETFROM:+0100
TZOFFSETTO:+0200
TZNAME:CEST
DTSTART:20230326T010000
END:DAYLIGHT
BEGIN:STANDARD
TZOFFSETFROM:+0200
TZOFFSETTO:+0100
TZNAME:CET
DTSTART:20231029T010000
END:STANDARD
BEGIN:DAYLIGHT
TZOFFSETFROM:+0100
TZOFFSETTO:+0200
TZNAME:CEST
DTSTART:20240331T010000
END:DAYLIGHT
BEGIN:STANDARD
TZOFFSETFROM:+0200
TZOFFSETTO:+0100
TZNAME:CET
DTSTART:20241027T010000
END:STANDARD
BEGIN:DAYLIGHT
TZOFFSETFROM:+0100
TZOFFSETTO:+0200
TZNAME:CEST
DTSTART:20250330T010000
END:DAYLIGHT
BEGIN:STANDARD
TZOFFSETFROM:+0200
TZOFFSETTO:+0100
TZNAME:CET
DTSTART:20251026T010000
END:STANDARD
END:VTIMEZONE
BEGIN:VEVENT
DTSTART;VALUE=DATE:20240928
DTEND;VALUE=DATE:20241009
DTSTAMP:20260423T192441
CREATED:20240112T140549Z
LAST-MODIFIED:20240112T140549Z
UID:2758-1727481600-1728431999@jubla-degersheim.ch
SUMMARY:Lager
DESCRIPTION:Unser Highlight des Jahres steht bald wieder vor der Türe. Vom 28.09. – 08.10. werden wir von der Jungwacht und Blauring Degersheim\, 11 unvergessliche Tage im Lager erleben. Mit Spiel und Spass werden neue Freundschaften geknüpft und viele neue Erfahrungen gesammelt. Wir freuen uns auf zahlreiche Anmeldungen.\nWeitere Informationen zum Jungwachtlager: Jungwachtlager\nWeitere Informationen zum Blauringlager: Blauringlager
URL:https://jubla-degersheim.ch/event/lager-2/
LOCATION:St. Gallen
END:VEVENT
END:VCALENDAR